BEGIN:VCALENDAR
VERSION:2.0
PRODID:-//KVG - Kardinal von Galen Schule - Rheine - ECPv6.15.20//NONSGML v1.0//EN
CALSCALE:GREGORIAN
METHOD:PUBLISH
X-WR-CALNAME:KVG - Kardinal von Galen Schule - Rheine
X-ORIGINAL-URL:https://www.kvg-rheine.de/wordpress
X-WR-CALDESC:Veranstaltungen für KVG - Kardinal von Galen Schule - Rheine
REFRESH-INTERVAL;VALUE=DURATION:PT1H
X-Robots-Tag:noindex
X-PUBLISHED-TTL:PT1H
BEGIN:VTIMEZONE
TZID:Europe/Paris
BEGIN:DAYLIGHT
TZOFFSETFROM:+0100
TZOFFSETTO:+0200
TZNAME:CEST
DTSTART:20250330T010000
END:DAYLIGHT
BEGIN:STANDARD
TZOFFSETFROM:+0200
TZOFFSETTO:+0100
TZNAME:CET
DTSTART:20251026T010000
END:STANDARD
BEGIN:DAYLIGHT
TZOFFSETFROM:+0100
TZOFFSETTO:+0200
TZNAME:CEST
DTSTART:20260329T010000
END:DAYLIGHT
BEGIN:STANDARD
TZOFFSETFROM:+0200
TZOFFSETTO:+0100
TZNAME:CET
DTSTART:20261025T010000
END:STANDARD
BEGIN:DAYLIGHT
TZOFFSETFROM:+0100
TZOFFSETTO:+0200
TZNAME:CEST
DTSTART:20270328T010000
END:DAYLIGHT
BEGIN:STANDARD
TZOFFSETFROM:+0200
TZOFFSETTO:+0100
TZNAME:CET
DTSTART:20271031T010000
END:STANDARD
END:VTIMEZONE
BEGIN:VEVENT
DTSTART;TZID=Europe/Paris:20260302T074500
DTEND;TZID=Europe/Paris:20260302T111500
DTSTAMP:20260421T121240
CREATED:20251103T143201Z
LAST-MODIFIED:20251103T143201Z
UID:5909-1772437500-1772450100@www.kvg-rheine.de
SUMMARY:Mein Körper gehört mir Teil III
DESCRIPTION:Projektstunde Klasse 4
URL:https://www.kvg-rheine.de/wordpress/terminkalender/mein-koerper-gehoert-mir-teil-iii/
END:VEVENT
BEGIN:VEVENT
DTSTART;VALUE=DATE:20260309
DTEND;VALUE=DATE:20260321
DTSTAMP:20260421T121240
CREATED:20260123T073750Z
LAST-MODIFIED:20260123T073750Z
UID:5998-1773014400-1774051199@www.kvg-rheine.de
SUMMARY:Elternsprechtagswoche Jahrgang 1 & 2
DESCRIPTION:Die Klassenlehrer planen in diesen Wochen die Termine individuell.
URL:https://www.kvg-rheine.de/wordpress/terminkalender/elternsprechtagswoche-jahrgang-1-2/
END:VEVENT
BEGIN:VEVENT
DTSTART;TZID=Europe/Paris:20260325T074500
DTEND;TZID=Europe/Paris:20260325T111500
DTSTAMP:20260421T121240
CREATED:20251103T143300Z
LAST-MODIFIED:20251103T143300Z
UID:5911-1774424700-1774437300@www.kvg-rheine.de
SUMMARY:Radfahrtraining Klasse 4
DESCRIPTION:
URL:https://www.kvg-rheine.de/wordpress/terminkalender/radfahrtraining-klasse-4/
END:VEVENT
BEGIN:VEVENT
DTSTART;TZID=Europe/Paris:20260326T074500
DTEND;TZID=Europe/Paris:20260326T111500
DTSTAMP:20260421T121240
CREATED:20251103T143335Z
LAST-MODIFIED:20251103T143335Z
UID:5913-1774511100-1774523700@www.kvg-rheine.de
SUMMARY:Radfahrtraining Klasse 4
DESCRIPTION:
URL:https://www.kvg-rheine.de/wordpress/terminkalender/radfahrtraining-klasse-4-2/
END:VEVENT
BEGIN:VEVENT
DTSTART;TZID=Europe/Paris:20260326T093000
DTEND;TZID=Europe/Paris:20260326T103000
DTSTAMP:20260421T121240
CREATED:20260123T073828Z
LAST-MODIFIED:20260123T073828Z
UID:6000-1774517400-1774521000@www.kvg-rheine.de
SUMMARY:Gottesdienst Jahrgang 3/4
DESCRIPTION:
URL:https://www.kvg-rheine.de/wordpress/terminkalender/gottesdienst-jahrgang-3-4/
END:VEVENT
BEGIN:VEVENT
DTSTART;TZID=Europe/Paris:20260327T074500
DTEND;TZID=Europe/Paris:20260327T111500
DTSTAMP:20260421T121240
CREATED:20251103T143445Z
LAST-MODIFIED:20251103T143445Z
UID:5915-1774597500-1774610100@www.kvg-rheine.de
SUMMARY:Radfahrprüfung Klasse 4
DESCRIPTION:
URL:https://www.kvg-rheine.de/wordpress/terminkalender/radfahrpruefung-klasse-4/
END:VEVENT
END:VCALENDAR